{
 "currentVersion": 11.2,
 "cimVersion": "3.2.0",
 "serviceDescription": "",
 "mapName": "Map",
 "description": "",
 "copyrightText": "",
 "supportsDynamicLayers": true,
 "layers": [
  {
   "id": 0,
   "name": "CircumpolarArcticVegetationMap",
   "parentLayerId": -1,
   "defaultVisibility": true,
   "subLayerIds": null,
   "minScale": 0,
   "maxScale": 0,
   "type": "Raster Layer",
   "supportsDynamicLegends": true
  }
 ],
 "tables": [],
 "spatialReference": {
  "wkid": 3995,
  "latestWkid": 3995,
  "xyTolerance": 0.001,
  "zTolerance": 0.001,
  "mTolerance": 0.001,
  "falseX": -30636100,
  "falseY": -30636100,
  "xyUnits": 10000,
  "falseZ": -100000,
  "zUnits": 10000,
  "falseM": -100000,
  "mUnits": 10000
 },
 "singleFusedMapCache": true,
 "tileInfo": {
  "rows": 256,
  "cols": 256,
  "dpi": 96,
  "format": "PNG",
  "compressionQuality": 75,
  "origin": {
   "x": -30636100,
   "y": 9.00689289374099E11
  },
  "spatialReference": {
   "wkid": 3995,
   "latestWkid": 3995,
   "xyTolerance": 0.001,
   "zTolerance": 0.001,
   "mTolerance": 0.001,
   "falseX": -30636100,
   "falseY": -30636100,
   "xyUnits": 10000,
   "falseZ": -100000,
   "zUnits": 10000,
   "falseM": -100000,
   "mUnits": 10000
  },
  "lods": [
   {
    "level": 0,
    "resolution": 67733.46880027094,
    "scale": 256000000
   },
   {
    "level": 1,
    "resolution": 33072.9828126323,
    "scale": 125000000
   },
   {
    "level": 2,
    "resolution": 16933.367200067736,
    "scale": 64000000
   },
   {
    "level": 3,
    "resolution": 8466.683600033868,
    "scale": 32000000
   },
   {
    "level": 4,
    "resolution": 4233.341800016934,
    "scale": 16000000
   },
   {
    "level": 5,
    "resolution": 2116.670900008467,
    "scale": 8000000
   },
   {
    "level": 6,
    "resolution": 1058.3354500042335,
    "scale": 4000000
   },
   {
    "level": 7,
    "resolution": 529.1677250021168,
    "scale": 2000000
   },
   {
    "level": 8,
    "resolution": 264.5838625010584,
    "scale": 1000000
   },
   {
    "level": 9,
    "resolution": 132.2919312505292,
    "scale": 500000
   },
   {
    "level": 10,
    "resolution": 66.1459656252646,
    "scale": 250000
   },
   {
    "level": 11,
    "resolution": 33.0729828126323,
    "scale": 125000
   },
   {
    "level": 12,
    "resolution": 16.933367200067735,
    "scale": 64000
   }
  ]
 },
 "storageInfo": {
  "storageFormat": "esriMapCacheStorageModeCompactV2",
  "packetSize": 128
 },
 "initialExtent": {
  "xmin": -7209037.159644897,
  "ymin": -9620616.474053752,
  "xmax": 7229196.701710979,
  "ymax": 9575671.727976222,
  "spatialReference": {
   "wkid": 3995,
   "latestWkid": 3995,
   "xyTolerance": 0.001,
   "zTolerance": 0.001,
   "mTolerance": 0.001,
   "falseX": -30636100,
   "falseY": -30636100,
   "xyUnits": 10000,
   "falseZ": -100000,
   "zUnits": 10000,
   "falseM": -100000,
   "mUnits": 10000
  }
 },
 "fullExtent": {
  "xmin": -7703199.798525876,
  "ymin": -7738656.142703552,
  "xmax": 7729101.19193318,
  "ymax": 7681171.857259031,
  "spatialReference": {
   "wkid": 3995,
   "latestWkid": 3995,
   "xyTolerance": 0.001,
   "zTolerance": 0.001,
   "mTolerance": 0.001,
   "falseX": -30636100,
   "falseY": -30636100,
   "xyUnits": 10000,
   "falseZ": -100000,
   "zUnits": 10000,
   "falseM": -100000,
   "mUnits": 10000
  }
 },
 "datesInUnknownTimezone": false,
 "minScale": 4.523024918396427E8,
 "maxScale": 0,
 "units": "esriMeters",
 "supportedImageFormatTypes": "PNG32,PNG24,PNG,JPG,DIB,TIFF,EMF,PS,PDF,GIF,SVG,SVGZ,BMP",
 "documentInfo": {
  "Title": "Map",
  "Author": "",
  "Comments": "",
  "Subject": "",
  "Category": "",
  "Version": "3.2.0",
  "AntialiasingMode": "Fast",
  "TextAntialiasingMode": "Force",
  "Keywords": ""
 },
 "supportsQueryDomains": true,
 "capabilities": "Map,Query,Data",
 "supportedQueryFormats": "JSON, geoJSON, PBF",
 "exportTilesAllowed": false,
 "referenceScale": 0.0,
 "supportsDatumTransformation": true,
 "archivingInfo": {
  "supportsHistoricMoment": false
 },
 "supportsClipping": true,
 "supportsSpatialFilter": true,
 "supportsTimeRelation": true,
 "supportsQueryDataElements": true,
 "mapUnits": {
  "uwkid": 9001
 },
 "maxRecordCount": 2000,
 "maxImageHeight": 4096,
 "maxImageWidth": 4096,
 "supportedExtensions": "",
 "resampling": true
}
