{
 "currentVersion": 11.2,
 "cimVersion": "3.2.0",
 "serviceDescription": "",
 "mapName": "2014 eTerra Imagery",
 "description": "",
 "copyrightText": "",
 "supportsDynamicLayers": true,
 "layers": [
  {
   "id": 0,
   "name": "Alaska_Raster.SDE.b_imagery_2014_RGB_AK83_6f_tile1_2",
   "parentLayerId": -1,
   "defaultVisibility": true,
   "subLayerIds": null,
   "minScale": 0,
   "maxScale": 0,
   "type": "Raster Layer",
   "supportsDynamicLegends": true
  },
  {
   "id": 1,
   "name": "Alaska_Raster.SDE.b_imagery_2014_RGB_AK83_6f_tile1_3",
   "parentLayerId": -1,
   "defaultVisibility": true,
   "subLayerIds": null,
   "minScale": 0,
   "maxScale": 0,
   "type": "Raster Layer",
   "supportsDynamicLegends": true
  },
  {
   "id": 2,
   "name": "Alaska_Raster.SDE.b_imagery_2014_RGB_AK83_6f_tile2_1",
   "parentLayerId": -1,
   "defaultVisibility": true,
   "subLayerIds": null,
   "minScale": 0,
   "maxScale": 0,
   "type": "Raster Layer",
   "supportsDynamicLegends": true
  },
  {
   "id": 3,
   "name": "Alaska_Raster.SDE.b_imagery_2014_RGB_AK83_6f_tile2_2",
   "parentLayerId": -1,
   "defaultVisibility": true,
   "subLayerIds": null,
   "minScale": 0,
   "maxScale": 0,
   "type": "Raster Layer",
   "supportsDynamicLegends": true
  },
  {
   "id": 4,
   "name": "Alaska_Raster.SDE.b_imagery_2014_RGB_AK83_6f_tile2_3",
   "parentLayerId": -1,
   "defaultVisibility": true,
   "subLayerIds": null,
   "minScale": 0,
   "maxScale": 0,
   "type": "Raster Layer",
   "supportsDynamicLegends": true
  },
  {
   "id": 5,
   "name": "Alaska_Raster.SDE.b_imagery_2014_RGB_AK83_6f_tile3_1",
   "parentLayerId": -1,
   "defaultVisibility": true,
   "subLayerIds": null,
   "minScale": 0,
   "maxScale": 0,
   "type": "Raster Layer",
   "supportsDynamicLegends": true
  },
  {
   "id": 6,
   "name": "Alaska_Raster.SDE.b_imagery_2014_RGB_AK83_6f_tile3_2",
   "parentLayerId": -1,
   "defaultVisibility": true,
   "subLayerIds": null,
   "minScale": 0,
   "maxScale": 0,
   "type": "Raster Layer",
   "supportsDynamicLegends": true
  },
  {
   "id": 7,
   "name": "Alaska_Raster.SDE.b_imagery_2014_RGB_AK83_6f_tile3_3",
   "parentLayerId": -1,
   "defaultVisibility": true,
   "subLayerIds": null,
   "minScale": 0,
   "maxScale": 0,
   "type": "Raster Layer",
   "supportsDynamicLegends": true
  },
  {
   "id": 8,
   "name": "Alaska_Raster.SDE.b_imagery_2014_RGB_AK83_6f_tile4_1",
   "parentLayerId": -1,
   "defaultVisibility": true,
   "subLayerIds": null,
   "minScale": 0,
   "maxScale": 0,
   "type": "Raster Layer",
   "supportsDynamicLegends": true
  },
  {
   "id": 9,
   "name": "Alaska_Raster.SDE.b_imagery_2014_RGB_AK83_6f_tile4_2",
   "parentLayerId": -1,
   "defaultVisibility": true,
   "subLayerIds": null,
   "minScale": 0,
   "maxScale": 0,
   "type": "Raster Layer",
   "supportsDynamicLegends": true
  },
  {
   "id": 10,
   "name": "Alaska_Raster.SDE.b_imagery_2014_RGB_AK83_6f_tile4_3",
   "parentLayerId": -1,
   "defaultVisibility": true,
   "subLayerIds": null,
   "minScale": 0,
   "maxScale": 0,
   "type": "Raster Layer",
   "supportsDynamicLegends": true
  }
 ],
 "tables": [],
 "spatialReference": {
  "wkid": 102006,
  "latestWkid": 3338,
  "xyTolerance": 0.001,
  "zTolerance": 0.001,
  "mTolerance": 0.001,
  "falseX": -13752200,
  "falseY": -8948200,
  "xyUnits": 3.274821212148234E8,
  "falseZ": -100000,
  "zUnits": 10000,
  "falseM": -100000,
  "mUnits": 10000
 },
 "singleFusedMapCache": true,
 "tileInfo": {
  "rows": 256,
  "cols": 256,
  "dpi": 96,
  "format": "MIXED",
  "compressionQuality": 75,
  "origin": {
   "x": -13752200,
   "y": 18556200
  },
  "spatialReference": {
   "wkid": 102006,
   "latestWkid": 3338,
   "xyTolerance": 0.001,
   "zTolerance": 0.001,
   "mTolerance": 0.001,
   "falseX": -13752200,
   "falseY": -8948200,
   "xyUnits": 3.274821212148234E8,
   "falseZ": -100000,
   "zUnits": 10000,
   "falseM": -100000,
   "mUnits": 10000
  },
  "lods": [
   {
    "level": 0,
    "resolution": 4233.341800016934,
    "scale": 16000000
   },
   {
    "level": 1,
    "resolution": 2116.670900008467,
    "scale": 8000000
   },
   {
    "level": 2,
    "resolution": 1058.3354500042335,
    "scale": 4000000
   },
   {
    "level": 3,
    "resolution": 529.1677250021168,
    "scale": 2000000
   },
   {
    "level": 4,
    "resolution": 264.5838625010584,
    "scale": 1000000
   },
   {
    "level": 5,
    "resolution": 132.2919312505292,
    "scale": 500000
   },
   {
    "level": 6,
    "resolution": 66.1459656252646,
    "scale": 250000
   },
   {
    "level": 7,
    "resolution": 33.0729828126323,
    "scale": 125000
   },
   {
    "level": 8,
    "resolution": 16.764033528067056,
    "scale": 63360
   },
   {
    "level": 9,
    "resolution": 6.350012700025401,
    "scale": 24000
   },
   {
    "level": 10,
    "resolution": 3.1750063500127004,
    "scale": 12000
   },
   {
    "level": 11,
    "resolution": 1.5875031750063502,
    "scale": 6000
   },
   {
    "level": 12,
    "resolution": 0.7937515875031751,
    "scale": 3000
   },
   {
    "level": 13,
    "resolution": 0.39687579375158755,
    "scale": 1500
   },
   {
    "level": 14,
    "resolution": 0.19843789687579377,
    "scale": 750
   }
  ]
 },
 "storageInfo": {
  "storageFormat": "esriMapCacheStorageModeCompactV2",
  "packetSize": 128
 },
 "initialExtent": {
  "xmin": -154732.39613737675,
  "ymin": 2295017.962071855,
  "xmax": -40439.40646394371,
  "ymax": 2422171.1772077507,
  "spatialReference": {
   "wkid": 102006,
   "latestWkid": 3338,
   "xyTolerance": 0.001,
   "zTolerance": 0.001,
   "mTolerance": 0.001,
   "falseX": -13752200,
   "falseY": -8948200,
   "xyUnits": 3.274821212148234E8,
   "falseZ": -100000,
   "zUnits": 10000,
   "falseM": -100000,
   "mUnits": 10000
  }
 },
 "fullExtent": {
  "xmin": -122297.66094483441,
  "ymin": 2338075.857455479,
  "xmax": -72874.1416548195,
  "ymax": 2379113.281824024,
  "spatialReference": {
   "wkid": 102006,
   "latestWkid": 3338,
   "xyTolerance": 0.001,
   "zTolerance": 0.001,
   "mTolerance": 0.001,
   "falseX": -13752200,
   "falseY": -8948200,
   "xyUnits": 3.274821212148234E8,
   "falseZ": -100000,
   "zUnits": 10000,
   "falseM": -100000,
   "mUnits": 10000
  }
 },
 "datesInUnknownTimezone": false,
 "minScale": 250000,
 "maxScale": 750,
 "units": "esriMeters",
 "supportedImageFormatTypes": "PNG32,PNG24,PNG,JPG,DIB,TIFF,EMF,PS,PDF,GIF,SVG,SVGZ,BMP",
 "documentInfo": {
  "Title": "b_imagery_2014_RGB_eTerra_ua3_20240816.aprx",
  "Author": "",
  "Comments": "",
  "Subject": "",
  "Category": "",
  "Version": "3.2.0",
  "AntialiasingMode": "Fast",
  "TextAntialiasingMode": "Force",
  "Keywords": ""
 },
 "supportsQueryDomains": true,
 "capabilities": "Map,Query,Data",
 "supportedQueryFormats": "JSON, geoJSON, PBF",
 "exportTilesAllowed": false,
 "referenceScale": 0.0,
 "supportsDatumTransformation": true,
 "archivingInfo": {
  "supportsHistoricMoment": false
 },
 "supportsClipping": true,
 "supportsSpatialFilter": true,
 "supportsTimeRelation": true,
 "supportsQueryDataElements": true,
 "mapUnits": {
  "uwkid": 9001
 },
 "maxRecordCount": 2000,
 "maxImageHeight": 4096,
 "maxImageWidth": 4096,
 "supportedExtensions": "",
 "resampling": false
}
